BEGIN:VCALENDAR
VERSION:2.0
PRODID:-//wp-events-plugin.com//7.2.3.1//EN
TZID:America/New_York
X-WR-TIMEZONE:America/New_York
BEGIN:VEVENT
UID:4@confidentcamper.org
DTSTART;TZID=America/New_York:20210725T150000
DTEND;TZID=America/New_York:20210725T170000
DTSTAMP:20210725T163829Z
URL:https://www.confidentcamper.org/events/hike-spring-creek-canyon/
SUMMARY:Hike Spring Creek Canyon
DESCRIPTION:Join us for a guided scenic hike through Spring Creek Canyon.\n
 \nDave and Megan will guide a small group on this beginner friendly hike t
 hat will be fun for the whole family. We will cover basic hiking safety po
 ints before setting off on our adventure.\n\nThis moderate\, 3.0 mile loop
  has an elevation gain of 354ft.\n\nGirl Scouts would complete requirement
 s towards Daisy Trail Adventure\, Brownie Trail Adventure\, Brownie Hiker\
 , and Junior Trail Adventure.\n\nCub Scout Tigers would complete requireme
 nts towards Tigers in the Wild. Cub Scout Wolves would complete requiremen
 ts towards Paws on the Path.\n\nAdvanced registration is required and is l
 imited. This is a free event.\n\nParticipants need to be in good physical 
 health.\n\nAll minors must be accompanied by a responsible adult who is al
 so registered for the event.
ATTACH;FMTTYPE=image/jpeg:https://i0.wp.com/www.confidentcamper.org/wp-con
 tent/uploads/2021/05/Hiking-in-Spring-Creek-Canyon.jpg?fit=1080%2C1440&ssl
 =1
CATEGORIES:Hiking,Youth
LOCATION:Spring Creek Canyon\, SGL 333 Parking\, Belefonte\, PA\, 16823\, U
 nited States
GEO:40.860695;-77.809521
X-APPLE-STRUCTURED-LOCATION;VALUE=URI;X-ADDRESS=SGL 333 Parking\, Belefonte
 \, PA\, 16823\, United States;X-APPLE-RADIUS=100;X-TITLE=Spring Creek Cany
 on:geo:40.860695,-77.809521
END:VEVENT
BEGIN:VTIMEZONE
TZID:America/New_York
X-LIC-LOCATION:America/New_York
BEGIN:DAYLIGHT
DTSTART:20210314T030000
TZOFFSETFROM:-0500
TZOFFSETTO:-0400
TZNAME:EDT
END:DAYLIGHT
END:VTIMEZONE
END:VCALENDAR